Workbook
Name _I: "$#REF!.$J$65:$IK$855"
Name _I_1: "$#REF!.$J$65:$IK$853"
Name _I_1_1: "$#REF!.$J$71:$IK$862"
Name _I_1_1_1: "$#REF!.$J$65:$IK$853"
Name _I_1_1_1_1: "$#REF!.$J$65:$IK$853"
Name _I_1_1_1_1_1: "$#REF!.$J$69:$IK$860"
Name _I_1_1_1_1_1_1: "$#REF!.$J$39:$IK$824"
Name _I_1_1_1_1_1_1_1: "$#REF!.$J$57:$IK$831"
Name _I_1_1_1_29: "$#REF!.$J$39:$IK$824"
Name _I_1_1_10: "$#REF!.$N$76:$IO$881"
Name _I_1_1_11: "$#REF!.$N$76:$IO$881"
Name _I_1_1_12: "$#REF!.$N$76:$IO$881"
Name _I_1_1_19: "$#REF!.$K$70:$IL$861"
Name _I_1_1_19_29: "$#REF!.$K$58:$IL$832"
Name _I_1_1_29: "$#REF!.$J$59:$IK$833"
Name _I_1_1_3: "$#REF!.$N$76:$IO$881"
Name _I_1_1_3_1: "$#REF!.$N$76:$IO$881"
Name _I_1_1_4: "$#REF!.$N$76:$IO$881"
Name _I_1_1_4_1: "$#REF!.$N$76:$IO$881"
Name _I_1_1_5: "$#REF!.$N$76:$IO$881"
Name _I_1_1_5_1: "$#REF!.$N$76:$IO$881"
Name _I_1_1_6: "$#REF!.$N$76:$IO$881"
Name _I_1_1_6_1: "$#REF!.$N$76:$IO$881"
Name _I_1_1_7: "$#REF!.$N$76:$IO$881"
Name _I_1_1_7_1: "$#REF!.$N$76:$IO$881"
Name _I_1_1_9: "$#REF!.$N$76:$IO$881"
Name _I_1_10: "$#REF!.$N$69:$IO$874"
Name _I_1_11: "$#REF!.$N$69:$IO$874"
Name _I_1_12: "$#REF!.$N$69:$IO$874"
Name _I_1_19: "$#REF!.$K$65:$IL$854"
Name _I_1_19_29: "$#REF!.$K$39:$IL$825"
Name _I_1_29: "$#REF!.$J$39:$IK$824"
Name _I_1_3: "$#REF!.$N$69:$IO$874"
Name _I_1_3_1: "$#REF!.$N$69:$IO$874"
Name _I_1_4: "$#REF!.$N$69:$IO$874"
Name _I_1_4_1: "$#REF!.$N$69:$IO$874"
Name _I_1_5: "$#REF!.$N$69:$IO$874"
Name _I_1_5_1: "$#REF!.$N$69:$IO$874"
Name _I_1_6: "$#REF!.$N$69:$IO$874"
Name _I_1_6_1: "$#REF!.$N$69:$IO$874"
Name _I_1_7: "$#REF!.$N$69:$IO$874"
Name _I_1_7_1: "$#REF!.$N$69:$IO$874"
Name _I_1_9: "$#REF!.$N$69:$IO$874"
Name _I_10: "$#REF!.$J$66:$IK$857"
Name _I_11: "$#REF!.$J$88:$IK$886"
Name _I_12: "$#REF!.$J$66:$IK$857"
Name _I_19: "$#REF!.$K$65:$IL$854"
Name _I_19_29: "$#REF!.$K$39:$IL$825"
Name _I_29: "$#REF!.$J$39:$IK$826"
Name _I_3: "$#REF!.$N$69:$IO$874"
Name _I_3_1: "$#REF!.$N$69:$IO$874"
Name _I_4: "$#REF!.$J$88:$IK$886"
Name _I_4_1: "$#REF!.$J$66:$IK$857"
Name _I_5: "$#REF!.$J$88:$IK$886"
Name _I_5_1: "$#REF!.$J$66:$IK$857"
Name _I_6: "$#REF!.$J$88:$IK$886"
Name _I_6_1: "$#REF!.$J$66:$IK$857"
Name _I_7: "$#REF!.$J$88:$IK$886"
Name _I_7_1: "$#REF!.$J$66:$IK$857"
Name _I_9: "$#REF!.$J$88:$IK$886"

Sheet ORÇAMENTO ATUALIZADO
A2: PREFEITURA MUNICIPAL DE IPIXUNA DO PARÁ
A3: CNPJ: 83.268.011/0001-84
A4: SECRETARIA MUNICIPAL DE OBRAS, TRANSPORTE, ÁGUA E URBANISMO
A5: OBRA: CONSTRUÇÃO DE TORRES E BASE PARA CAIXA D'ÁGUA
A6: REFERÊNCIA: SINAPI 01/21 - DESONERADO / SEDOP MAR 2021.
A7: RESPONSAVEL TÉCNICO: ENG. CIVIL MADALENO FREITAS FILIPE CREA 150154034-3 Contato: (94) 991045183 e-mail: eng_freitasmadaleno@outlook.com
A9: Planilha Orçamentária
A10: Item | B10: Ref. | C10: Cod. | D10: Descrição | E10: und | F10: Quantidade | G10: Preço Unit c/ BDI | I10: Valor total | K10: 1.2742
A11: 1.0 | D11: Serviços preliminares
A12: 1.1 | B12: SEDOP | C12: 11340 | D12: Placa da Obra (Padrão SETRAN) | E12: m² | F12: 12 | G12: 245 | H12: =G12*K10 -> 312.179 | I12: =F12*H12 -> 3746.148
D13: Subtotal | I13: =SUM(I12:I12) -> 3746.148
A15: 2.0 | D15: ESTRUTURA EM CONCRETO ARMADO PARA BASE DE CAIXA D'ÁGUA
A16: 2.1 | B16: PMIP | C16: P01 | D16: Base de concreto armado para caixa de água de 5.000l | E16: und | F16: 11 | G16: 180 | H16: =oRÇ_Base_Concreto_5000l!I28 -> 19285.494 | I16: =F16*H16 -> 212140.43
A17: 2.2 | B17: PMIP | C17: P01 | D17: Base de concreto armado para caixa de água de 10.000l | E17: und | F17: 3 | G17: 40 | H17: =oRÇ_Base_Concreto_10.000l!I28 -> 21287.699 | I17: =F17*H17 -> 63863.097
A18: 2.3 | B18: PMIP | C18: P01 | D18: Base de concreto armado para caixa de água de 15.000l | E18: und | F18: 4 | G18: 40 | H18: =oRÇ_Base_Concreto_15.000l!I28 -> 22978.787 | I18: =F18*H18 -> 91915.147
A19: 2.4 | B19: PMIP | C19: P01 | D19: Base de concreto armado para caixa de água de 20.000l | E19: und | F19: 3 | G19: 100 | H19: =oRÇ_Base_Concreto_20.000l!I28 -> 26064.751 | I19: =F19*H19 -> 78194.253
D20: Subtotal | I20: =SUM(I16:I19) -> 446112.93
B21: VALOR TOTAL DA OBRA | I21: =I13+I20 -> 449859.07
H23: Ipixuna do Pará, 18 de outubro de 2021
A26: Responsável Técnico:
A27: Madaleno Freitas Filipe
A28: Eng. Civil - CREA PA 150154034-3

Sheet oRÇ_Base_Concreto_5000l
A1: PREFEITURA MUNICIPAL DE IPIXUNA DO PARÁ
A2: CNPJ: 83.268.011/0001-84
A3: ENDEREÇO: Trav. Cristovão Colombo, N° 34 - Bairro: Centro
A4: CEP: 68637-000 - Ipixuna do Pará
A5: OBJETO: CONSTRUÇÃO DE BASE DE CONCRETO ARMADO PARA CAIXA D'ÁGUA - CAP. 5.000l
A7: PLANILHA ORÇAMENTÁRIA | J7: 1.25
A9: ÍTEM | B9: Ref. | C9: Cod. | D9: SERVIÇOS | E9: UNID. | F9: QUANT. | G9: P. UNIT. | H9: P. Unit com BDI | I9: P. TOTAL com BDI
A10: 1 | D10: SERVIÇOS PRELIMINARES
A11: 1.1 | B11: sedop | C11: 010008 | D11: Limpeza do terreno | E11: m² | F11: 25 | G11: 1.63 | H11: =G11*$J$7 -> 2.0375 | I11: =F11*H11 -> 50.9375
A12: 1.2 | B12: sedop | C12: 010009 | D12: Locação a trena | E12: m² | F12: 16 | G12: 1.96 | H12: =G12*$J$7 -> 2.45 | I12: =F12*H12 -> 39.2
G13: TOTAL | I13: =SUM(I11:I12) -> 90.1375
A14: 2 | D14: FUNDAÇÃO
A15: 2.1 | B15: Sinapi | C15: 93358 | D15: Escavação manual de vala com profundidade menor ou igual a 1,30 m | E15: m³ | F15: 1.44 | G15: 59.57 | H15: =G15*$J$7 -> 74.4625 | I15: =F15*H15 -> 107.226
A16: 2.2 | B16: Sinapi | C16: 94965 | D16: Concreto estrutural virado em obra FCK=25,0 Mpa | E16: m³ | F16: 1.54 | G16: 501.22 | H16: =G16*$J$7 -> 626.525 | I16: =F16*H16 -> 964.8485
A17: 2.3 | B17: Sinapi | C17: 96547 | D17: ARMAÇÃO DE BLOCO, VIGA BALDRAME OU SAPATA UTILIZANDO AÇO CA-50 DE 12,5MM - MONTAGEM. | E17: Kg | F17: 123.2 | G17: 10.48 | H17: =G17*$J$7 -> 13.1 | I17: =F17*H17 -> 1613.92
G18: TOTAL | I18: =SUM(I14:I17) -> 2685.9945
A19: 3 | D19: ESTRUTURA
A20: 3.1 | B20: Sinapi | C20: 94965 | D20: Concreto Bombeado fck=25MPa, incluindo preparo, lançamento e adensamento. | E20: m³ | F20: 4.04 | G20: 501.12 | H20: =G20*$J$7 -> 626.4 | I20: =F20*H20 -> 2530.656
A21: 3.2 | B21: Sinapi | C21: 92761 | D21: ARMAÇÃO DE PILAR OU VIGA DE UMA ESTRUTURA CONVENCIONAL DE CONCRETO ARMADO EM UM EDIFÍCIO DE MÚLTIPLOS PAVIMENTOS UTILIZANDO AÇO CA-50 DE 8,0MM - MONTAGEM | E21: Kg | F21: 352 | G21: 12.65 | H21: =G21*$J$7 -> 15.8125 | I21: =F21*H21 -> 5566
A22: 3.3 | B22: Sinapi | C22: 92447 | D22: Forma madeira comp. resinada 12mm p/ Estrutura corte/ Montagem/ Escoramento/ Desforma- Vigas | E22: m² | F22: 42.35 | G22: 156.07 | H22: =G22*$J$7 -> 195.0875 | I22: =F22*H22 -> 8261.9556
G23: TOTAL | I23: =SUM(I20:I22) -> 16358.612
A24: 4 | D24: SERVIÇOS COMPLEMENTARES
A25: 4.1 | B25: SEDOP | C25: 270220 | D25: Limpeza geral da obra | E25: m² | F25: 20 | G25: 6.03 | H25: =G25*$J$7 -> 7.5375 | I25: =F25*H25 -> 150.75
G26: TOTAL | I26: =SUM(I25:I25) -> 150.75
A28: VALOR GLOBAL | I28: =I13+I18+I23+I26 -> 19285.494
A30: Responsável Técnico:
A31: Madaleno Freitas Filipe
A32: Eng. Civil - CREA PA 150154034-3

Sheet oRÇ_Base_Concreto_10.000l
A1: PREFEITURA MUNICIPAL DE IPIXUNA DO PARÁ
A2: CNPJ: 83.268.011/0001-84
A3: ENDEREÇO: Trav. Cristovão Colombo, N° 34 - Bairro: Centro
A4: CEP: 68637-000 - Ipixuna do Pará
A5: OBJETO: CONSTRUÇÃO DE BASE DE CONCRETO ARMADO PARA CAIXA D'ÁGUA - CAP. 10.000l
A7: PLANILHA ORÇAMENTÁRIA | J7: 1.25
A9: ÍTEM | B9: Ref. | C9: Cod. | D9: SERVIÇOS | E9: UNID. | F9: QUANT. | G9: P. UNIT. | H9: P. Unit com BDI | I9: P. TOTAL com BDI
A10: 1 | D10: SERVIÇOS PRELIMINARES
A11: 1.1 | B11: sedop | C11: 010008 | D11: Limpeza do terreno | E11: m² | F11: 100 | G11: 1.63 | H11: =G11*$J$7 -> 2.0375 | I11: =F11*H11 -> 203.75
A12: 1.2 | B12: sedop | C12: 010009 | D12: Locação a trena | E12: m² | F12: 20 | G12: 1.96 | H12: =G12*$J$7 -> 2.45 | I12: =F12*H12 -> 49
G13: TOTAL | I13: =SUM(I11:I12) -> 252.75
A14: 2 | D14: FUNDAÇÃO
A15: 2.1 | B15: Sinapi | C15: 93358 | D15: Escavação manual de vala com profundidade menor ou igual a 1,30 m | E15: m³ | F15: 1.44 | G15: 59.57 | H15: =G15*$J$7 -> 74.4625 | I15: =F15*H15 -> 107.226
A16: 2.2 | B16: Sinapi | C16: 94965 | D16: Concreto estrutural virado em obra FCK=25,0 Mpa | E16: m³ | F16: 1.54 | G16: 501.22 | H16: =G16*$J$7 -> 626.525 | I16: =F16*H16 -> 964.8485
A17: 2.3 | B17: Sinapi | C17: 96547 | D17: ARMAÇÃO DE BLOCO, VIGA BALDRAME OU SAPATA UTILIZANDO AÇO CA-50 DE 12,5MM - MONTAGEM. | E17: Kg | F17: 123.2 | G17: 10.48 | H17: =G17*$J$7 -> 13.1 | I17: =F17*H17 -> 1613.92
G18: TOTAL | I18: =SUM(I14:I17) -> 2685.9945
A19: 3 | D19: ESTRUTURA
A20: 3.1 | B20: Sinapi | C20: 94965 | D20: Concreto Bombeado fck=25MPa, incluindo preparo, lançamento e adensamento. | E20: m³ | F20: 4.88 | G20: 501.12 | H20: =G20*$J$7 -> 626.4 | I20: =F20*H20 -> 3056.832
A21: 3.2 | B21: Sinapi | C21: 92761 | D21: ARMAÇÃO DE PILAR OU VIGA DE UMA ESTRUTURA CONVENCIONAL DE CONCRETO ARMADO EM UM EDIFÍCIO DE MÚLTIPLOS PAVIMENTOS UTILIZANDO AÇO CA-50 DE 8,0MM - MONTAGEM | E21: Kg | F21: 390.4 | G21: 12.65 | H21: =G21*$J$7 -> 15.8125 | I21: =F21*H21 -> 6173.2
A22: 3.3 | B22: Sinapi | C22: 92447 | D22: Forma madeira comp. resinada 12mm p/ Estrutura corte/ Montagem/ Escoramento/ Desforma- Vigas | E22: m² | F22: 45.97 | G22: 156.07 | H22: =G22*$J$7 -> 195.0875 | I22: =F22*H22 -> 8968.1724
G23: TOTAL | I23: =SUM(I20:I22) -> 18198.204
A24: 4 | D24: SERVIÇOS COMPLEMENTARES
A25: 4.1 | B25: SEDOP | C25: 270220 | D25: Limpeza geral da obra | E25: m² | F25: 20 | G25: 6.03 | H25: =G25*$J$7 -> 7.5375 | I25: =F25*H25 -> 150.75
G26: TOTAL | I26: =SUM(I25:I25) -> 150.75
A28: VALOR GLOBAL | I28: =I13+I18+I23+I26 -> 21287.699
A30: Responsável Técnico:
A31: Madaleno Freitas Filipe
A32: Eng. Civil - CREA PA 150154034-3

Sheet oRÇ_Base_Concreto_15.000l
A1: PREFEITURA MUNICIPAL DE IPIXUNA DO PARÁ
A2: CNPJ: 83.268.011/0001-84
A3: ENDEREÇO: Trav. Cristovão Colombo, N° 34 - Bairro: Centro
A4: CEP: 68637-000 - Ipixuna do Pará
A5: OBJETO: CONSTRUÇÃO DE BASE DE CONCRETO ARMADO PARA CAIXA D'ÁGUA - CAP. 15.000l
A7: PLANILHA ORÇAMENTÁRIA | J7: 1.25
A9: ÍTEM | B9: Ref. | C9: Cod. | D9: SERVIÇOS | E9: UNID. | F9: QUANT. | G9: P. UNIT. | H9: P. Unit com BDI | I9: P. TOTAL com BDI
A10: 1 | D10: SERVIÇOS PRELIMINARES
A11: 1.1 | B11: sedop | C11: 010008 | D11: Limpeza do terreno | E11: m² | F11: 100 | G11: 1.63 | H11: =G11*$J$7 -> 2.0375 | I11: =F11*H11 -> 203.75
A12: 1.2 | B12: sedop | C12: 010009 | D12: Locação a trena | E12: m² | F12: 20 | G12: 1.96 | H12: =G12*$J$7 -> 2.45 | I12: =F12*H12 -> 49
G13: TOTAL | I13: =SUM(I11:I12) -> 252.75
A14: 2 | D14: FUNDAÇÃO
A15: 2.1 | B15: Sinapi | C15: 93358 | D15: Escavação manual de vala com profundidade menor ou igual a 1,30 m | E15: m³ | F15: 2.56 | G15: 59.57 | H15: =G15*$J$7 -> 74.4625 | I15: =F15*H15 -> 190.624
A16: 2.2 | B16: Sinapi | C16: 94965 | D16: Concreto estrutural virado em obra FCK=25,0 Mpa | E16: m³ | F16: 1.54 | G16: 501.22 | H16: =G16*$J$7 -> 626.525 | I16: =F16*H16 -> 964.8485
A17: 2.3 | B17: Sinapi | C17: 96547 | D17: ARMAÇÃO DE BLOCO, VIGA BALDRAME OU SAPATA UTILIZANDO AÇO CA-50 DE 12,5MM - MONTAGEM. | E17: Kg | F17: 123.2 | G17: 10.48 | H17: =G17*$J$7 -> 13.1 | I17: =F17*H17 -> 1613.92
G18: TOTAL | I18: =SUM(I14:I17) -> 2769.3925
A19: 3 | D19: ESTRUTURA
A20: 3.1 | B20: Sinapi | C20: 94965 | D20: Concreto Bombeado fck=25MPa, incluindo preparo, lançamento e adensamento. | E20: m³ | F20: 5.73 | G20: 501.12 | H20: =G20*$J$7 -> 626.4 | I20: =F20*H20 -> 3589.272
A21: 3.2 | B21: Sinapi | C21: 92761 | D21: ARMAÇÃO DE PILAR OU VIGA DE UMA ESTRUTURA CONVENCIONAL DE CONCRETO ARMADO EM UM EDIFÍCIO DE MÚLTIPLOS PAVIMENTOS UTILIZANDO AÇO CA-50 DE 8,0MM - MONTAGEM | E21: Kg | F21: 458.4 | G21: 12.65 | H21: =G21*$J$7 -> 15.8125 | I21: =F21*H21 -> 7248.45
A22: 3.3 | B22: Sinapi | C22: 92447 | D22: Forma madeira comp. resinada 12mm p/ Estrutura corte/ Montagem/ Escoramento/ Desforma- Vigas | E22: m² | F22: 45.97 | G22: 156.07 | H22: =G22*$J$7 -> 195.0875 | I22: =F22*H22 -> 8968.1724
G23: TOTAL | I23: =SUM(I20:I22) -> 19805.894
A24: 4 | D24: SERVIÇOS COMPLEMENTARES
A25: 4.1 | B25: SEDOP | C25: 270220 | D25: Limpeza geral da obra | E25: m² | F25: 20 | G25: 6.03 | H25: =G25*$J$7 -> 7.5375 | I25: =F25*H25 -> 150.75
G26: TOTAL | I26: =SUM(I25:I25) -> 150.75
A28: VALOR GLOBAL | I28: =I13+I18+I23+I26 -> 22978.787
A30: Responsável Técnico:
A31: Madaleno Freitas Filipe
A32: Eng. Civil - CREA PA 150154034-3

Sheet oRÇ_Base_Concreto_20.000l
A1: PREFEITURA MUNICIPAL DE IPIXUNA DO PARÁ
A2: CNPJ: 83.268.011/0001-84
A3: ENDEREÇO: Trav. Cristovão Colombo, N° 34 - Bairro: Centro
A4: CEP: 68637-000 - Ipixuna do Pará
A5: OBJETO: CONSTRUÇÃO DE BASE DE CONCRETO ARMADO PARA CAIXA D'ÁGUA - CAP. 20.000l
A7: PLANILHA ORÇAMENTÁRIA | J7: 1.25
A9: ÍTEM | B9: Ref. | C9: Cod. | D9: SERVIÇOS | E9: UNID. | F9: QUANT. | G9: P. UNIT. | H9: P. Unit com BDI | I9: P. TOTAL com BDI
A10: 1 | D10: SERVIÇOS PRELIMINARES
A11: 1.1 | B11: sedop | C11: 010008 | D11: Limpeza do terreno | E11: m² | F11: 100 | G11: 1.63 | H11: =G11*$J$7 -> 2.0375 | I11: =F11*H11 -> 203.75
A12: 1.2 | B12: sedop | C12: 010009 | D12: Locação a trena | E12: m² | F12: 20 | G12: 1.96 | H12: =G12*$J$7 -> 2.45 | I12: =F12*H12 -> 49
G13: TOTAL | I13: =SUM(I11:I12) -> 252.75
A14: 2 | D14: FUNDAÇÃO
A15: 2.1 | B15: Sinapi | C15: 93358 | D15: Escavação manual de vala com profundidade menor ou igual a 1,30 m | E15: m³ | F15: 2.56 | G15: 59.57 | H15: =G15*$J$7 -> 74.4625 | I15: =F15*H15 -> 190.624
A16: 2.2 | B16: Sinapi | C16: 94965 | D16: Concreto estrutural virado em obra FCK=25,0 Mpa | E16: m³ | F16: 2.66 | G16: 501.22 | H16: =G16*$J$7 -> 626.525 | I16: =F16*H16 -> 1666.5565
A17: 2.3 | B17: Sinapi | C17: 96547 | D17: ARMAÇÃO DE BLOCO, VIGA BALDRAME OU SAPATA UTILIZANDO AÇO CA-50 DE 12,5MM - MONTAGEM. | E17: Kg | F17: 212.8 | G17: 10.48 | H17: =G17*$J$7 -> 13.1 | I17: =F17*H17 -> 2787.68
G18: TOTAL | I18: =SUM(I14:I17) -> 4644.8605
A19: 3 | D19: ESTRUTURA
A20: 3.1 | B20: Sinapi | C20: 94965 | D20: Concreto Bombeado fck=25MPa, incluindo preparo, lançamento e adensamento. | E20: m³ | F20: 6.37 | G20: 501.12 | H20: =G20*$J$7 -> 626.4 | I20: =F20*H20 -> 3990.168
A21: 3.2 | B21: Sinapi | C21: 92761 | D21: ARMAÇÃO DE PILAR OU VIGA DE UMA ESTRUTURA CONVENCIONAL DE CONCRETO ARMADO EM UM EDIFÍCIO DE MÚLTIPLOS PAVIMENTOS UTILIZANDO AÇO CA-50 DE 8,0MM - MONTAGEM | E21: Kg | F21: 509.6 | G21: 12.65 | H21: =G21*$J$7 -> 15.8125 | I21: =F21*H21 -> 8058.05
A22: 3.3 | B22: Sinapi | C22: 92447 | D22: Forma madeira comp. resinada 12mm p/ Estrutura corte/ Montagem/ Escoramento/ Desforma- Vigas | E22: m² | F22: 45.97 | G22: 156.07 | H22: =G22*$J$7 -> 195.0875 | I22: =F22*H22 -> 8968.1724
G23: TOTAL | I23: =SUM(I20:I22) -> 21016.39
A24: 4 | D24: SERVIÇOS COMPLEMENTARES
A25: 4.1 | B25: SEDOP | C25: 270220 | D25: Limpeza geral da obra | E25: m² | F25: 20 | G25: 6.03 | H25: =G25*$J$7 -> 7.5375 | I25: =F25*H25 -> 150.75
G26: TOTAL | I26: =SUM(I25:I25) -> 150.75
A28: VALOR GLOBAL | I28: =I13+I18+I23+I26 -> 26064.751
A30: Responsável Técnico:
A31: Madaleno Freitas Filipe
A32: Eng. Civil - CREA PA 150154034-3

Sheet CRONOGRAMA 
B3: PREFEITURA MUNICIPAL DE IPIXUNA DO PARÁ
B4: CNPJ: 83.268.011/0001-84
B5: ENDEREÇO: Trav. Cristovão Colombo, N° 34 - Bairro: Centro
B6: CEP: 68637-000 - Ipixuna do Pará
B7: OBJETO: CONSTRUÇÃO DE BASE DE CONCRETO ARMADO PARA CAIXA D'ÁGUA - CAP. 5.000l, 10.000l, 15.000l e 20.000l
C8: CRONOGRAMA GERAL
D10: CRONOGRAMA FISICO FINANCEIRO
D11: 1 ETAPA | G11: 2 ETAPA | J11: 3 ETAPA | M11: 4 ETAPA
A12: ITEM | B12: SERVIÇOS | C12: S % POR OBRA | P12: VALOR POR ITEM
A13: 1 | B13: BASE DE CX D'ÁGUA DE 5.000L | C13: =P13/P25 -> 0.47553078 | D13: =P13*D15 -> 106070.21 | G13: =P13*G15 -> 106070.21 | P13: ='ORÇAMENTO ATUALIZADO'!I16 -> 212140.43
D15: 0.5 | G15: 0.5
A16: 2 | B16: BASE DE CX D'ÁGUA DE 10.000L | C16: =P16/P25 -> 0.14315455 | G16: =G18*P16 -> 63863.097 | P16: ='ORÇAMENTO ATUALIZADO'!I17 -> 63863.097
G18: 1 | P18: =SUM(D18:O18) -> 1
A19: 3 | B19: BASE DE CX D'ÁGUA DE 15.000L | C19: =P19/P25 -> 0.20603561 | J19: =P19*J21 -> 45957.574 | M19: =M21*P19 -> 45957.574 | P19: ='ORÇAMENTO ATUALIZADO'!I18 -> 91915.147
J21: 0.5 | M21: 0.5 | P21: =SUM(D21:O21) -> 1
A22: 4 | B22: BASE DE CX D'ÁGUA DE 20.000L | C22: =P22/P25 -> 0.17527906 | J22: =P22*J24 -> 39097.126 | M22: =P22*M24 -> 39097.126 | P22: ='ORÇAMENTO ATUALIZADO'!I19 -> 78194.253
J24: 0.5 | M24: 0.5
A25: TOTAL GERAL | C25: =SUM(C13:C24) -> 1 | D25: =D13+D16+D19+D22 -> 106070.21 | G25: =G13+G16+G19+G22 -> 169933.31 | J25: =J22+J19+G16 -> 148917.8 | M25: =M19+M22 -> 85054.7 | P25: =P13+P16+P19+P22 -> 446112.93
A27: Responsável Técnico:
A28: Madaleno Freitas Filipe
A29: Eng. Civil - CREA PA 150154034-3

Sheet BDI
A2: Proponente | F2: Assunto:
A3: =[5]ORÇAMENTO_BASE!C10 -> PREFEITURA MUNICIPAL DE IPIXUNA DO PARÁ | F3: CÁLCULO DO BDI
A4: Empreendimento: | F4: Responsável Técnico/CREA
A5: CONSTRUÇÃO DE BASE DE CONCRETO ARMADO PARA CAIXA D'ÁGUA - CAP. 5.000l, 10.000l, 15.000l E 20.000l | F5: Engº Civil: Madaleno Freitas CREA: 150154034-3
A6: Referência de preços:
A7: Planilha orçamentária SEDOP 032021 SINAPI 04/2021 | F7: BDI: 27,42%
A10: COMPOSIÇÃO DO BDI
A12: 1) DESPESAS FINANCEIRAS
B14: 0.0051
I15: 1 | J15: =1+B18+B23+B31+B35 -> 1.071
A16: 2) SEGUROS E RISCOS | I16: 2 | J16: =1+B14 -> 1.0051
I17: 3 | J17: =1+B27 -> 1.0576
B18: 0.004 | I18: 4 | J18: =1-C40-E40-G40-C42 -> 0.8935
A21: 3) TAXA DE ADMINISTRAÇÃO - ESCRITÓRIO CENTRAL
B23: 0.047
A25: 4) BONIFICAÇÃO / LUCRO
B27: 0.0576
A29: 5) ADMINISTRAÇÃO LOCAL / CONSUMOS /TRANSPORTES/ LIMPEZA -
A30: Obs- este item é mais adequado que seja orçado, incluído nos serviços preliminares
B31: 0.01
A33: 6) TAXAS, EMOLUMENTOS, FERRAMENTAS E EQUIPAMENTOS
A34: Obs- este item é mais adequado que seja orçado, incluído nos serviços preliminares
B35: 0.01
A37: 7) Impostos -
B40: COFINS= | C40: 0.03 | D40: PIS= | E40: 0.0065 | F40: ISS= | G40: 0.025
B42: CPRB | C42: 0.045
B47: BDI= | D47: =(J15*J16*J17/J18)-1 -> 0.27416488
A48: Responsável Técnico:
A49: Madaleno Freitas Filipe
A50: Eng. Civil - CREA PA 150154034-3

Sheet CPU
A1: PREFEITURA MUNICIPAL DE IPIXUNA DO PARÁ
A2: CNPJ: 83.268.011/0001-84
A3: ENDEREÇO: Trav. Cristovão Colombo, N° 34 - Bairro: Centro
A4: CEP: 68637-000 - Ipixuna do Pará
A5: OBJETO: CONSTRUÇÃO DE BASE DE CONCRETO ARMADO PARA CAIXA D'ÁGUA - CAP. 5.000l, 10.000l, 15.000l e 20.000l
A7: COMPOSIÇÃO DE PREÇO UNITÁRIO
A8: SEDOP 10008 | B8: LIMPEZA DO TERRENO | G8: Unidade: M²
A9: TIPO | B9: CÓDIGO | C9: DESCRIÇÃO | D9: UNID | E9: COEF. | F9: CUSTO | G9: CUSTO UNIT.
A10: SEDOP | B10: 280026 | C10: SERVENTE COM ENCARGOS COMPLEMENTARES | D10: H | E10: 0.12 | F10: 13.58 | G10: =E10*F10 -> 1.6296
A11: PREÇO UNITÁRIO ADOTADO (SEM BDI)/MÊS | E11: =SUM(G10) -> 1.6296
A12: REFERÊNCIA | C12: SEDOP - 04/2019 S/ Desoneração
A14: SEDOP 10009 | B14: LOCAÇÃO | G14: Unidade: M²
A15: TIPO | B15: CÓDIGO | C15: DESCRIÇÃO | D15: UNID | E15: COEF. | F15: CUSTO | G15: CUSTO UNIT.
A16: SEDOP | B16: D00043 | C16: Arame recozido no. 18 | D16: KG | E16: 0.002 | F16: 8.46 | G16: =E16*F16 -> 0.01692
A17: SEDOP | B17: D00283 | C17: Linha de nylon no. 80 | D17: RL | E17: 0.01 | F17: 7.98 | G17: =E17*F17 -> 0.0798
A18: SEDOP | B18: D00281 | C18: Pernamanca 3" x 2" 4 m - madeira branca | D18: DZ | E18: 0.01 | F18: 111.5 | G18: =E18*F18 -> 1.115
A19: SEDOP | B19: D00081 | C19: Prego 2 1/2"x10 | D19: KG | E19: 0.003 | F19: 8 | G19: =E19*F19 -> 0.024
A20: SEDOP | B20: D00016 | C20: Tabua de madeira branca 4m | D20: DZ | E20: 0.01 | F20: 0.68 | G20: =E20*F20 -> 0.0068
A21: SEDOP | B21: 280013 | C21: Carpinteiro com encargos complementares | D21: H | E21: 0.07 | F21: 7.8 | G21: =E21*F21 -> 0.546
A22: SEDOP | B22: 280026 | C22: Servente com encargos complementares | D22: H | E22: 0.05 | F22: 3.5 | G22: =E22*F22 -> 0.175
A23: PREÇO UNITÁRIO ADOTADO (SEM BDI)/MÊS | E23: =SUM(G16:G22) -> 1.96352
A24: REFERÊNCIA | C24: SEDOP - 04/2019 S/ Desoneração
A26: SINAPI 93358 | B26: Escavação manual de vala com profundidade menor ou igual a 1,30 m | G26: Unidade: M³
A27: TIPO | B27: CÓDIGO | C27: DESCRIÇÃO | D27: UNID | E27: QUANT. | F27: CUSTO | G27: CUSTO UNIT.
A28: SINAPI | B28: 93358 | C28: SERVENTE COM ENCARGOS COMPLEMENTARES | D28: UNID | E28: 3.5 | F28: 17.02 | G28: =E28*F28 -> 59.57
A29: PREÇO UNITÁRIO ADOTADO (SEM BDI)/MÊS | E29: =SUM(G28) -> 59.57
A30: REFERÊNCIA | C30: SINAPI - 04/2021 S/ Desoneração
A32: SINAPI 94965 | B32: CONCRETO ESTRUTURAL VIRADO EM OBRA - FCK = 25 MPA | G32: Unidade: M³
A33: TIPO | B33: CÓDIGO | C33: DESCRIÇÃO | D33: UNID | E33: QUANT. | F33: CUSTO | G33: CUSTO UNIT.
A34: SINAPI | B34: 370 | C34: AREIA MEDIA | D34: M³ | E34: 0.723 | F34: 52.5 | G34: =E34*F34 -> 37.9575
A35: SINAPI | B35: 1379 | C35: CIMENTO PORTLAND COMPOSTO CP II-32 | D35: KG | E35: 362.66 | F35: 0.97 | G35: =E35*F35 -> 351.7802
A36: SINAPI | B36: 4721 | C36: Seixo lavado | D36: m³ | E36: 0.593 | F36: 89.53 | G36: =E36*F36 -> 53.09129
A37: SINAPI | B37: 88316 | C37: SERVENTE COM ENCARGOS COMPLEMENTARES | D37: h | E37: 2.31 | F37: 15.06 | G37: =E37*F37 -> 34.7886
A38: SINAPI | B38: 88377 | C38: OPERADOR DE BETONEIRA ESTACIONÁRIA/MISTURADOR COM ENCARGOS COMPLEMENTARES | D38: H | E38: 1.46 | F38: 15.12 | G38: =E38*F38 -> 22.0752
A39: SINAPI | B39: 88830 | C39: BETONEIRA CAPACIDADE NOMINAL DE 400 L, CAPACIDADE DE MISTURA 280 L, MOTOR ELÉTRICO TRIFÁSICO POTÊNCIA DE 2 CV, SEM CARREGADOR - CHP DIURNO. AF_10/20 | D39: CHP | E39: 0.9 | F39: 1.7 | G39: =E39*F39 -> 1.53
A40: PREÇO UNITÁRIO ADOTADO (SEM BDI)/MÊS | E40: =SUM(G34:G39) -> 501.22279
A41: REFERÊNCIA | C41: SINAPI - 04/2019 S/ Desoneração
A43: SINAPI 96547 | B43: ARMAÇÃO DE BLOCO, VIGA BALDRAME OU SAPATA UTILIZANDO AÇO CA-50 DE 12,5MM - MONTAGEM | G43: Unidade: UNID
A44: TIPO | B44: CÓDIGO | C44: DESCRIÇÃO | D44: UNID | E44: QUANT. | F44: CUSTO | G44: CUSTO UNIT.
A45: Sinapi | B45: 96547 | C45: AÇO CA 50 | D45: KG | E45: 1.05 | F45: 7.1 | G45: =E45*F45 -> 7.455
...
